BEGIN:VCALENDAR
VERSION:2.0
PRODID:-//ghchq - ECPv6.15.17.1//NONSGML v1.0//EN
CALSCALE:GREGORIAN
METHOD:PUBLISH
X-ORIGINAL-URL:https://ghchq.org
X-WR-CALDESC:Events for ghchq
REFRESH-INTERVAL;VALUE=DURATION:PT1H
X-Robots-Tag:noindex
X-PUBLISHED-TTL:PT1H
BEGIN:VTIMEZONE
TZID:Africa/Lagos
BEGIN:STANDARD
TZOFFSETFROM:+0100
TZOFFSETTO:+0100
TZNAME:WAT
DTSTART:20250101T000000
END:STANDARD
END:VTIMEZONE
BEGIN:VEVENT
DTSTART;TZID=Africa/Lagos:20260401T173000
DTEND;TZID=Africa/Lagos:20260401T190000
DTSTAMP:20260422T112937
CREATED:20260329T095617Z
LAST-MODIFIED:20260329T095617Z
UID:10000005-1775064600-1775070000@ghchq.org
SUMMARY:Music and Miracles
DESCRIPTION:What are you expecting this April? \nStart the month on a different note. \nJoin us at Global Harvest Church for a special night of Music & Miracles with Pastor Victor Adeyemi. \nIt’s more than just a service\, it is going to be an encounter. Whether you need a breakthrough or just a moment in His presence\, there is a seat for you here. \n📍 3-5 Harvesters’ Drive\, Liberty Road\, Ibadan\n🕠 5:30 PM | Wednesday\, April 1st\, 2026. \nBring someone who needs a touch from God. See you there! \n 
URL:https://ghchq.org/event/music-and-miracles/
ATTACH;FMTTYPE=image/png:https://ghchq.org/wp-content/uploads/2026/03/Music-Miracles-II.png
END:VEVENT
BEGIN:VEVENT
DTSTART;TZID=Africa/Lagos:20260406T110000
DTEND;TZID=Africa/Lagos:20260406T130000
DTSTAMP:20260422T112937
CREATED:20260329T100146Z
LAST-MODIFIED:20260329T100244Z
UID:10000006-1775473200-1775480400@ghchq.org
SUMMARY:Family Easter Picnic
DESCRIPTION:He is risen! 🙌✨ \nThis Easter\, we are doing more than just marking a date on the calendar. \nWe are coming together as a family to celebrate the hope and new beginnings Jesus has given us. \nWe are heading to NCRI Apata on Monday\, April 6th for a massive Easter Picnic\, and you are officially invited. \nThink great food\, zonal competitions (who’s taking the trophy this year? 🏆)\, and a whole lot of fun for the kids. It’s the perfect way to wrap up the long weekend. \nTime : 11:00AM \nDon’t keep the fun to yourself. Tag all your zonal members and friends in the comment section that shouldn’t miss out on the fun.
URL:https://ghchq.org/event/family-easter-picnic/
ATTACH;FMTTYPE=image/png:https://ghchq.org/wp-content/uploads/2026/03/Family-Easter-Picnic.png
END:VEVENT
END:VCALENDAR