BEGIN:VCALENDAR
VERSION:2.0
PRODID:-//ghchq - ECPv6.15.17.1//NONSGML v1.0//EN
CALSCALE:GREGORIAN
METHOD:PUBLISH
X-ORIGINAL-URL:https://ghchq.org
X-WR-CALDESC:Events for ghchq
REFRESH-INTERVAL;VALUE=DURATION:PT1H
X-Robots-Tag:noindex
X-PUBLISHED-TTL:PT1H
BEGIN:VTIMEZONE
TZID:Africa/Lagos
BEGIN:STANDARD
TZOFFSETFROM:+0100
TZOFFSETTO:+0100
TZNAME:WAT
DTSTART:20250101T000000
END:STANDARD
END:VTIMEZONE
BEGIN:VEVENT
DTSTART;TZID=Africa/Lagos:20260321T080000
DTEND;TZID=Africa/Lagos:20260322T100000
DTSTAMP:20260422T084334
CREATED:20260321T141240Z
LAST-MODIFIED:20260321T141326Z
UID:10000001-1774080000-1774173600@ghchq.org
SUMMARY:Sunday Service
DESCRIPTION:No matter how big it looks\, no mountain can stand against the power of God.\nThis Sunday\, step into an atmosphere where burdens are lifted and victories are released. \nBe there. Your breakthrough awaits.
URL:https://ghchq.org/event/sunday-service/2026-03-21/
LOCATION:Global Harvest Church\, 3-5 Harvesters' Drive\, Liberty Road\, Ibadan\, oyo\, 200252\, Nigeria
ATTACH;FMTTYPE=image/png:https://ghchq.org/wp-content/uploads/2026/03/Mountains-Move-I.png
END:VEVENT
BEGIN:VEVENT
DTSTART;TZID=Africa/Lagos:20260322T100000
DTEND;TZID=Africa/Lagos:20260322T120000
DTSTAMP:20260422T084334
CREATED:20260321T141240Z
LAST-MODIFIED:20260321T141326Z
UID:10000002-1774173600-1774180800@ghchq.org
SUMMARY:Sunday Service
DESCRIPTION:No matter how big it looks\, no mountain can stand against the power of God.\nThis Sunday\, step into an atmosphere where burdens are lifted and victories are released. \nBe there. Your breakthrough awaits.
URL:https://ghchq.org/event/sunday-service/2026-03-22/
LOCATION:Global Harvest Church\, 3-5 Harvesters' Drive\, Liberty Road\, Ibadan\, oyo\, 200252\, Nigeria
ATTACH;FMTTYPE=image/png:https://ghchq.org/wp-content/uploads/2026/03/Mountains-Move-I.png
END:VEVENT
BEGIN:VEVENT
DTSTART;TZID=Africa/Lagos:20260325T173000
DTEND;TZID=Africa/Lagos:20260325T190000
DTSTAMP:20260422T084334
CREATED:20260321T142816Z
LAST-MODIFIED:20260321T142816Z
UID:10000003-1774459800-1774465200@ghchq.org
SUMMARY:Wednesday Service
DESCRIPTION:
URL:https://ghchq.org/event/wednesday-service/
ATTACH;FMTTYPE=image/jpeg:https://ghchq.org/wp-content/uploads/2024/11/IMG-20241130-WA0011.jpg
END:VEVENT
BEGIN:VEVENT
DTSTART;TZID=Africa/Lagos:20260326T180000
DTEND;TZID=Africa/Lagos:20260326T193000
DTSTAMP:20260422T084334
CREATED:20260321T142918Z
LAST-MODIFIED:20260321T142918Z
UID:10000004-1774548000-1774553400@ghchq.org
SUMMARY:Mc Live
DESCRIPTION:
URL:https://ghchq.org/event/mc-live/
ATTACH;FMTTYPE=image/jpeg:https://ghchq.org/wp-content/uploads/2024/11/IMG-20241130-WA0019.jpg
END:VEVENT
END:VCALENDAR